Workbook

Sheet 入力
B2: 調整金算出のため、以下の項目を入力してください。
B4: 関税率番号 | E4: ※輸入申告入力控の対象商品の欄に記載された品目番号を数字のみで入力してください。 例）0405.10-129の場合、040510129と入力
C5: ↑記入例：040510129
B6: 重量:Kg | E6: ※小数点以下２位まで入力してください。
C7: ↑記入例：84.77
B8: 売渡価額（円） | E8: ※輸入申告入力控の対象商品の欄に記載された申告価格（CIF）を入力してください。
C9: ↑記入例：376872
B10: 原産国 | E10: ※プルダウンから選択してください。
C11: ↑選択例：EU加盟国・イギリス
C13: ➡算出結果を確認する（「調整金算出表」シート）

Sheet 調整金算出表
B2: 調整金算出表
B4: 協定税率
B5: 協定税率 | H5: 従価税 （%/kg） （１） | L5: 従量税 (円/kg） （２） | P5: kg当たりの 協定税率(A) A=(CIF/数量*(1))+(２）
B9: =IF(関税率表一覧!$L$6=0,関税率表一覧!D$6,"") -> #VALUE! | H9: =IF(関税率表一覧!$L$6=0,関税率表一覧!E$6,"") -> #VALUE! | L9: =IF(関税率表一覧!$L$6=0,関税率表一覧!F$6,"") -> #VALUE! | P9: =IF(関税率表一覧!$L$6=0,関税率表一覧!G$6,"") -> #VALUE!
B12: 暫定税率
B13: 暫定税率 | H13: 従価税 （%/kg） （３） | L13: 従量税 (円/kg） （４） | P13: kg当たりの 暫定税率(B) A=(CIF/数量*(3))+(4）
B17: =IF(関税率表一覧!$L$6=0,関税率表一覧!H$6,"") -> #VALUE! | H17: =IF(関税率表一覧!$L$6=0,関税率表一覧!I$6,"") -> #VALUE! | L17: =IF(関税率表一覧!$L$6=0,関税率表一覧!J$6,"") -> #VALUE! | P17: =IF(関税率表一覧!$L$6=0,関税率表一覧!K$6,"") -> #VALUE!
B20: 協定税率(A)/kg | I20: 暫定税率(B)/kg | P20: 調整金単価/kg（C）
B22: =P9 -> #VALUE! | I22: =P17 -> #VALUE! | P22: =IF(関税率表一覧!$L$6=0,IF(B22-I22<0,0,B22-I22),関税率表一覧!L$6) -> #VALUE!
B25: 調整金単価/kg（C) | I25: 輸入申告数量(kg） （様式１の数量） | P25: 売買差額（※） （＝調整金額（円））
B27: =P22 -> #VALUE! | I27: =関税率表一覧!B3 -> 0 | P27: =ROUNDDOWN(B27*I27,0) -> #VALUE!
B30: ※計算は全て連続で行い、調整金額に小数点以下の端数は切り捨てる。
B32: 算出結果
B33: 品名 | H33: =関税率表一覧!B7 -> #N/A
B35: 売渡価額 | H35: 買戻価額 | N35: 売買差額
B36: =関税率表一覧!B2 -> 0 | G36: 円 | H36: =B36+N36 -> #VALUE! | M36: 円 | N36: =P27 -> #VALUE! | S36: 円

Sheet 関税率表一覧
A2: CIF価格（円） A | B2: =入力!$C$8 -> 0 | E2: CIF価格（円/ｋｇ） C=A/B | F2: =B2/B3 -> #DIV/0!
A3: 重量（kg） B | B3: =入力!$C$6 -> 0 | E3: 関税表率番号 | F3: =入力!C4 -> 0
A5: 関税率表番号 | B5: 原産国区分
A6: =入力!C4 -> 0 | B6: EU加盟国・イギリス | D6: =DGET($B$9:$O$169,"a",$A$5:$B$6) -> #VALUE! | E6: =DGET($B$9:$O$169,"a1",$A$5:$B$6) -> #VALUE! | F6: =DGET($B$9:$O$169,"a2",$A$5:$B$6) -> #VALUE! | G6: =DGET($B$9:$O$169,"a3",$A$5:$B$6) -> #VALUE! | H6: =DGET($B$9:$O$169,"b",$A$5:$B$6) -> #VALUE! | I6: =DGET($B$9:$O$169,"b1",$A$5:$B$6) -> #VALUE! | J6: =DGET($B$9:$O$169,"b2",$A$5:$B$6) -> #VALUE! | K6: =DGET($B$9:$O$169,"b3",$A$5:$B$6) -> #VALUE! | L6: =DGET($B$9:$O$169,"c",$A$5:$B$6) -> #VALUE!
A7: =MID($A$6,1,4)&"."&MID($A$6,5,2)&"-"&MID($A$6,7,3) -> 0.- | B7: =VLOOKUP($A7,$A10:$C169,3,FALSE) -> #N/A
A8: 関税率表番号 （記号あり） | B8: 関税率表番号 | C8: 品名 | D8: 原産国区分 | E8: 協定税率(a)算出方法 | F8: 従価税 部分 （%/kg） ① | G8: 従量税 部分 (円/kg） ② | H8: kg当たりの 協定税率(a) ③=(C*①)＋② | I8: 実行（暫定）税率(b) 算出方法 | J8: 従価税 部分 ④ | K8: 従量税 部分 ⑤ | L8: kg当たりの 実効税率(b) ⑥＝（C*④)＋⑤ | N8: alic 徴収額 算出方法 | O8: TPP発行後 （小数点以下切り捨て、 マイナスは０） ⑧＝(③-⑥）*B or ⑧＝⑦*B
A9: 関税率表番号（記号あり） | B9: 関税率表番号 | C9: 品名 | D9: 原産国区分 | E9: a | F9: a1 | G9: a2 | H9: a3 | I9: b | J9: b1 | K9: b2 | L9: b3 | M9: c | O9: d
A10: 0402.10-129 | B10: 040210129 | C10: 加糖脱脂粉乳 | D10: TPP加盟国 | E10: 29.8%+ 396円/kg | F10: 0.298 | G10: 396 | H10: =($F$2*F10)+G10 -> #DIV/0! | I10: 36%+ 130円/kg | J10: 0.36 | K10: 130 | L10: =($F$2*J10)+K10 -> #DIV/0! | M10: 0 | N10: (a)-(b) | O10: =ROUNDDOWN(($H10-$L10)*$B$3,0) -> #DIV/0!
A11: 0402.10-129 | B11: 040210129 | C11: 加糖脱脂粉乳 | D11: EU加盟国・イギリス | E11: 29.8%+ 396円/kg | F11: 0.298 | G11: 396 | H11: =($F$2*F11)+G11 -> #DIV/0! | I11: 36%+ 130円/kg | J11: 0.36 | K11: 130 | L11: =($F$2*J11)+K11 -> #DIV/0! | M11: 0 | N11: (a)-(b) | O11: =ROUNDDOWN(($H11-$L11)*$B$3,0) -> #DIV/0!
A12: 0402.10-129 | B12: 040210129 | C12: 加糖脱脂粉乳 | D12: アメリカ合衆国 | E12: 29.8%+ 396円/kg | F12: 0.298 | G12: 396 | H12: =($F$2*F12)+G12 -> #DIV/0! | I12: 36%+ 130円/kg | J12: 0.36 | K12: 130 | L12: =($F$2*J12)+K12 -> #DIV/0! | M12: 0 | N12: (a)-(b) | O12: =ROUNDDOWN(($H12-$L12)*$B$3,0) -> #DIV/0!
A13: 0402.10-129 | B13: 040210129 | C13: 加糖脱脂粉乳 | D13: その他の国 | E13: 29.8%+ 396円/kg | F13: 0.298 | G13: 396 | H13: =($F$2*F13)+G13 -> #DIV/0! | I13: 36%+ 130円/kg | J13: 0.36 | K13: 130 | L13: =($F$2*J13)+K13 -> #DIV/0! | M13: 0 | N13: (a)-(b) | O13: =ROUNDDOWN(($H13-$L13)*$B$3,0) -> #DIV/0!
A14: 0402.10-212 | B14: 040210212 | C14: 脱脂粉乳/学校給食用 | D14: TPP加盟国 | E14: 396円/kg | F14: 0 | G14: 396 | H14: =($F$2*F14)+G14 -> #DIV/0! | I14: 26%+ 130円/kg | J14: 0.26 | K14: 130 | L14: =($F$2*J14)+K14 -> #DIV/0! | M14: 0 | N14: (a)-(b) | O14: 0
A15: 0402.10-212 | B15: 040210212 | C15: 脱脂粉乳/学校給食用 | D15: EU加盟国・イギリス | E15: 396円/kg | F15: 0 | G15: 396 | H15: =($F$2*F15)+G15 -> #DIV/0! | I15: 26%+ 130円/kg | J15: 0.26 | K15: 130 | L15: =($F$2*J15)+K15 -> #DIV/0! | M15: 0 | N15: (a)-(b) | O15: 0
A16: 0402.10-212 | B16: 040210212 | C16: 脱脂粉乳/学校給食用 | D16: アメリカ合衆国 | E16: 396円/kg | F16: 0 | G16: 396 | H16: =($F$2*F16)+G16 -> #DIV/0! | I16: 26%+ 130円/kg | J16: 0.26 | K16: 130 | L16: =($F$2*J16)+K16 -> #DIV/0! | M16: 0 | N16: (a)-(b) | O16: 0
A17: 0402.10-212 | B17: 040210212 | C17: 脱脂粉乳/学校給食用 | D17: その他の国 | E17: 396円/kg | F17: 0 | G17: 396 | H17: =($F$2*F17)+G17 -> #DIV/0! | I17: 26%+ 130円/kg | J17: 0.26 | K17: 130 | L17: =($F$2*J17)+K17 -> #DIV/0! | M17: 0 | N17: (a)-(b) | O17: 0
A18: 0402.10-217 | B18: 040210217 | C18: 脱脂粉乳/飼料用 | D18: TPP加盟国 | E18: 198円/kg | F18: 0 | G18: 198 | H18: =($F$2*F18)+G18 -> #DIV/0! | I18: 26%+ 130円/kg | J18: 0.26 | K18: 130 | L18: =($F$2*J18)+K18 -> #DIV/0! | M18: 0 | N18: (a)-(b) | O18: 0
A19: 0402.10-217 | B19: 040210217 | C19: 脱脂粉乳/飼料用 | D19: EU加盟国・イギリス | E19: 0円/kg | F19: 0 | G19: 0 | H19: =($F$2*F19)+G19 -> #DIV/0! | I19: 0円/kg | J19: 0 | K19: 0 | L19: =($F$2*J19)+K19 -> #DIV/0! | M19: 15.2 | N19: 15.20円/kg | O19: 0
A20: 0402.10-217 | B20: 040210217 | C20: 脱脂粉乳/飼料用 | D20: アメリカ合衆国 | E20: 396円/kg | F20: 0 | G20: 396 | H20: =($F$2*F20)+G20 -> #DIV/0! | I20: 26%+ 130円/kg | J20: 0.26 | K20: 130 | L20: =($F$2*J20)+K20 -> #DIV/0! | M20: 0 | N20: (a)-(b) | O20: 0
A21: 0402.10-217 | B21: 040210217 | C21: 脱脂粉乳/飼料用 | D21: その他の国 | E21: 396円/kg | F21: 0 | G21: 396 | H21: =($F$2*F21)+G21 -> #DIV/0! | I21: 26%+ 130円/kg | J21: 0.26 | K21: 130 | L21: =($F$2*J21)+K21 -> #DIV/0! | M21: 0 | N21: (a)-(b) | O21: 0
A22: 0402.10-229 | B22: 040210229 | C22: 脱脂粉乳/その他 | D22: TPP加盟国 | E22: 21.3%+ 396円/kg | F22: 0.213 | G22: 396 | H22: =($F$2*F22)+G22 -> #DIV/0! | I22: 26%+ 130円/kg | J22: 0.26 | K22: 130 | L22: =($F$2*J22)+K22 -> #DIV/0! | M22: 0 | N22: (a)-(b) | O22: =ROUNDDOWN((H22-L22)*$B$3,0) -> #DIV/0!
A23: 0402.10-229 | B23: 040210229 | C23: 脱脂粉乳/その他 | D23: EU加盟国・イギリス | E23: 21.3%+ 396円/kg | F23: 0.213 | G23: 396 | H23: =($F$2*F23)+G23 -> #DIV/0! | I23: 26%+ 130円/kg | J23: 0.26 | K23: 130 | L23: =($F$2*J23)+K23 -> #DIV/0! | M23: 0 | N23: (a)-(b) | O23: =ROUNDDOWN((H23-L23)*$B$3,0) -> #DIV/0!
A24: 0402.10-229 | B24: 040210229 | C24: 脱脂粉乳/その他 | D24: アメリカ合衆国 | E24: 21.3%+ 396円/kg | F24: 0.213 | G24: 396 | H24: =($F$2*F24)+G24 -> #DIV/0! | I24: 26%+ 130円/kg | J24: 0.26 | K24: 130 | L24: =($F$2*J24)+K24 -> #DIV/0! | M24: 0 | N24: (a)-(b) | O24: =ROUNDDOWN((H24-L24)*$B$3,0) -> #DIV/0!
A25: 0402.10-229 | B25: 040210229 | C25: 脱脂粉乳/その他 | D25: その他の国 | E25: 21.3%+ 396円/kg | F25: 0.213 | G25: 396 | H25: =($F$2*F25)+G25 -> #DIV/0! | I25: 26%+ 130円/kg | J25: 0.26 | K25: 130 | L25: =($F$2*J25)+K25 -> #DIV/0! | M25: 0 | N25: (a)-(b) | O25: =ROUNDDOWN((H25-L25)*$B$3,0) -> #DIV/0!
A26: 0402.21-139 | B26: 040221139 | C26: 全脂粉乳 | D26: TPP加盟国 | E26: 25.5%+ 612円/kg | F26: 0.255 | G26: 612 | H26: =($F$2*F26)+G26 -> #DIV/0! | I26: 31%+ 210円/kg | J26: 0.31 | K26: 210 | L26: =($F$2*J26)+K26 -> #DIV/0! | M26: 0 | N26: (a)-(b) | O26: =ROUNDDOWN((H26-L26)*$B$3,0) -> #DIV/0!
A27: 0402.21-139 | B27: 040221139 | C27: 全脂粉乳 | D27: EU加盟国・イギリス | E27: 25.5%+ 612円/kg | F27: 0.255 | G27: 612 | H27: =($F$2*F27)+G27 -> #DIV/0! | I27: 31%+ 210円/kg | J27: 0.31 | K27: 210 | L27: =($F$2*J27)+K27 -> #DIV/0! | M27: 0 | N27: (a)-(b) | O27: =ROUNDDOWN((H27-L27)*$B$3,0) -> #DIV/0!
A28: 0402.21-139 | B28: 040221139 | C28: 全脂粉乳 | D28: アメリカ合衆国 | E28: 25.5%+ 612円/kg | F28: 0.255 | G28: 612 | H28: =($F$2*F28)+G28 -> #DIV/0! | I28: 31%+ 210円/kg | J28: 0.31 | K28: 210 | L28: =($F$2*J28)+K28 -> #DIV/0! | M28: 0 | N28: (a)-(b) | O28: =ROUNDDOWN((H28-L28)*$B$3,0) -> #DIV/0!
A29: 0402.21-139 | B29: 040221139 | C29: 全脂粉乳 | D29: その他の国 | E29: 25.5%+ 612円/kg | F29: 0.255 | G29: 612 | H29: =($F$2*F29)+G29 -> #DIV/0! | I29: 31%+ 210円/kg | J29: 0.31 | K29: 210 | L29: =($F$2*J29)+K29 -> #DIV/0! | M29: 0 | N29: (a)-(b) | O29: =ROUNDDOWN((H29-L29)*$B$3,0) -> #DIV/0!
A30: 0402.21-149 | B30: 040221149 | C30: 全脂粉乳 | D30: TPP加盟国 | E30: 25.5%+1,023円/kg | F30: 0.255 | G30: 1023 | H30: =($F$2*F30)+G30 -> #DIV/0! | I30: 31%+ 210円/kg | J30: 0.31 | K30: 210 | L30: =($F$2*J30)+K30 -> #DIV/0! | M30: 0 | N30: (a)-(b) | O30: =ROUNDDOWN((H30-L30)*$B$3,0) -> #DIV/0!
A31: 0402.21-149 | B31: 040221149 | C31: 全脂粉乳 | D31: EU加盟国・イギリス | E31: 25.5%+1,023円/kg | F31: 0.255 | G31: 1023 | H31: =($F$2*F31)+G31 -> #DIV/0! | I31: 31%+ 210円/kg | J31: 0.31 | K31: 210 | L31: =($F$2*J31)+K31 -> #DIV/0! | M31: 0 | N31: (a)-(b) | O31: =ROUNDDOWN((H31-L31)*$B$3,0) -> #DIV/0!
A32: 0402.21-149 | B32: 040221149 | C32: 全脂粉乳 | D32: アメリカ合衆国 | E32: 25.5%+1,023円/kg | F32: 0.255 | G32: 1023 | H32: =($F$2*F32)+G32 -> #DIV/0! | I32: 31%+ 210円/kg | J32: 0.31 | K32: 210 | L32: =($F$2*J32)+K32 -> #DIV/0! | M32: 0 | N32: (a)-(b) | O32: =ROUNDDOWN((H32-L32)*$B$3,0) -> #DIV/0!
A33: 0402.21-149 | B33: 040221149 | C33: 全脂粉乳 | D33: その他の国 | E33: 25.5%+1,023円/kg | F33: 0.255 | G33: 1023 | H33: =($F$2*F33)+G33 -> #DIV/0! | I33: 31%+ 210円/kg | J33: 0.31 | K33: 210 | L33: =($F$2*J33)+K33 -> #DIV/0! | M33: 0 | N33: (a)-(b) | O33: =ROUNDDOWN((H33-L33)*$B$3,0) -> #DIV/0!
A34: 0402.21-212 | B34: 040221212 | C34: 脱脂粉乳/学校給食用 | D34: TPP加盟国 | E34: 425円/kg | F34: 0 | G34: 425 | H34: =($F$2*F34)+G34 -> #DIV/0! | I34: 26%+ 130円/kg | J34: 0.26 | K34: 130 | L34: =($F$2*J34)+K34 -> #DIV/0! | M34: 0 | N34: (a)-(b) | O34: 0
A35: 0402.21-212 | B35: 040221212 | C35: 脱脂粉乳/学校給食用 | D35: EU加盟国・イギリス | E35: 425円/kg | F35: 0 | G35: 425 | H35: =($F$2*F35)+G35 -> #DIV/0! | I35: 26%+ 130円/kg | J35: 0.26 | K35: 130 | L35: =($F$2*J35)+K35 -> #DIV/0! | M35: 0 | N35: (a)-(b) | O35: 0
A36: 0402.21-212 | B36: 040221212 | C36: 脱脂粉乳/学校給食用 | D36: アメリカ合衆国 | E36: 425円/kg | F36: 0 | G36: 425 | H36: =($F$2*F36)+G36 -> #DIV/0! | I36: 26%+ 130円/kg | J36: 0.26 | K36: 130 | L36: =($F$2*J36)+K36 -> #DIV/0! | M36: 0 | N36: (a)-(b) | O36: 0
A37: 0402.21-212 | B37: 040221212 | C37: 脱脂粉乳/学校給食用 | D37: その他の国 | E37: 425円/kg | F37: 0 | G37: 425 | H37: =($F$2*F37)+G37 -> #DIV/0! | I37: 26%+ 130円/kg | J37: 0.26 | K37: 130 | L37: =($F$2*J37)+K37 -> #DIV/0! | M37: 0 | N37: (a)-(b) | O37: 0
A38: 0402.21-217 | B38: 040221217 | C38: 脱脂粉乳/飼料用 | D38: TPP加盟国 | E38: 212.5円/kg | F38: 0 | G38: 212.5 | H38: =($F$2*F38)+G38 -> #DIV/0! | I38: 26%+ 130円/kg | J38: 0.26 | K38: 130 | L38: =($F$2*J38)+K38 -> #DIV/0! | M38: 0 | N38: (a)-(b) | O38: 0
A39: 0402.21-217 | B39: 040221217 | C39: 脱脂粉乳/飼料用 | D39: EU加盟国・イギリス | E39: 0円/kg | F39: 0 | G39: 0 | H39: =($F$2*F39)+G39 -> #DIV/0! | I39: 0円/kg | J39: 0 | K39: 0 | L39: =($F$2*J39)+K39 -> #DIV/0! | M39: 16.3 | N39: 16.30円/kg | O39: 0
A40: 0402.21-217 | B40: 040221217 | C40: 脱脂粉乳/飼料用 | D40: アメリカ合衆国 | E40: 212.5円/kg | F40: 0 | G40: 212.5 | H40: =($F$2*F40)+G40 -> #DIV/0! | I40: 26%+ 130円/kg | J40: 0.26 | K40: 130 | L40: =($F$2*J40)+K40 -> #DIV/0! | M40: 0 | N40: (a)-(b) | O40: 0
A41: 0402.21-217 | B41: 040221217 | C41: 脱脂粉乳/飼料用 | D41: その他の国 | E41: 425円/kg | F41: 0 | G41: 425 | H41: =($F$2*F41)+G41 -> #DIV/0! | I41: 26%+ 130円/kg | J41: 0.26 | K41: 130 | L41: =($F$2*J41)+K41 -> #DIV/0! | M41: 0 | N41: (a)-(b) | O41: 0
A42: 0402.21-229 | B42: 040221229 | C42: 脱脂粉乳/その他 | D42: TPP加盟国 | E42: 21.3%+ 425円/kg | F42: 0.213 | G42: 425 | H42: =($F$2*F42)+G42 -> #DIV/0! | I42: 26%+ 130円/kg | J42: 0.26 | K42: 130 | L42: =($F$2*J42)+K42 -> #DIV/0! | M42: 0 | N42: (a)-(b) | O42: =ROUNDDOWN((H42-L42)*$B$3,0) -> #DIV/0!
A43: 0402.21-229 | B43: 040221229 | C43: 脱脂粉乳/その他 | D43: EU加盟国・イギリス | E43: 21.3%+ 425円/kg | F43: 0.213 | G43: 425 | H43: =($F$2*F43)+G43 -> #DIV/0! | I43: 26%+ 130円/kg | J43: 0.26 | K43: 130 | L43: =($F$2*J43)+K43 -> #DIV/0! | M43: 0 | N43: (a)-(b) | O43: =ROUNDDOWN((H43-L43)*$B$3,0) -> #DIV/0!
A44: 0402.21-229 | B44: 040221229 | C44: 脱脂粉乳/その他 | D44: アメリカ合衆国 | E44: 21.3%+ 425円/kg | F44: 0.213 | G44: 425 | H44: =($F$2*F44)+G44 -> #DIV/0! | I44: 26%+ 130円/kg | J44: 0.26 | K44: 130 | L44: =($F$2*J44)+K44 -> #DIV/0! | M44: 0 | N44: (a)-(b) | O44: =ROUNDDOWN((H44-L44)*$B$3,0) -> #DIV/0!
A45: 0402.21-229 | B45: 040221229 | C45: 脱脂粉乳/その他 | D45: その他の国 | E45: 21.3%+ 425円/kg | F45: 0.213 | G45: 425 | H45: =($F$2*F45)+G45 -> #DIV/0! | I45: 26%+ 130円/kg | J45: 0.26 | K45: 130 | L45: =($F$2*J45)+K45 -> #DIV/0! | M45: 0 | N45: (a)-(b) | O45: =ROUNDDOWN((H45-L45)*$B$3,0) -> #DIV/0!
A46: 0402.29-119 | B46: 040229119 | C46: 全脂加糖粉乳 | D46: TPP加盟国 | E46: 25.5%+ 612円/kg | F46: 0.255 | G46: 612 | H46: =($F$2*F46)+G46 -> #DIV/0! | I46: 31%+ 210円/kg | J46: 0.31 | K46: 210 | L46: =($F$2*J46)+K46 -> #DIV/0! | M46: 0 | N46: (a)-(b) | O46: =ROUNDDOWN((H46-L46)*$B$3,0) -> #DIV/0!
A47: 0402.29-119 | B47: 040229119 | C47: 全脂加糖粉乳 | D47: EU加盟国・イギリス | E47: 25.5%+ 612円/kg | F47: 0.255 | G47: 612 | H47: =($F$2*F47)+G47 -> #DIV/0! | I47: 31%+ 210円/kg | J47: 0.31 | K47: 210 | L47: =($F$2*J47)+K47 -> #DIV/0! | M47: 0 | N47: (a)-(b) | O47: =ROUNDDOWN((H47-L47)*$B$3,0) -> #DIV/0!
A48: 0402.29-119 | B48: 040229119 | C48: 全脂加糖粉乳 | D48: アメリカ合衆国 | E48: 25.5%+ 612円/kg | F48: 0.255 | G48: 612 | H48: =($F$2*F48)+G48 -> #DIV/0! | I48: 31%+ 210円/kg | J48: 0.31 | K48: 210 | L48: =($F$2*J48)+K48 -> #DIV/0! | M48: 0 | N48: (a)-(b) | O48: =ROUNDDOWN((H48-L48)*$B$3,0) -> #DIV/0!
A49: 0402.29-119 | B49: 040229119 | C49: 全脂加糖粉乳 | D49: その他の国 | E49: 25.5%+ 612円/kg | F49: 0.255 | G49: 612 | H49: =($F$2*F49)+G49 -> #DIV/0! | I49: 31%+ 210円/kg | J49: 0.31 | K49: 210 | L49: =($F$2*J49)+K49 -> #DIV/0! | M49: 0 | N49: (a)-(b) | O49: =ROUNDDOWN((H49-L49)*$B$3,0) -> #DIV/0!
A50: 0402.29-129 | B50: 040229129 | C50: 全脂加糖粉乳 | D50: TPP加盟国 | E50: 25.5%+1,023円/kg | F50: 0.255 | G50: 1023 | H50: =($F$2*F50)+G50 -> #DIV/0! | I50: 31%+ 210円/kg | J50: 0.31 | K50: 210 | L50: =($F$2*J50)+K50 -> #DIV/0! | M50: 0 | N50: (a)-(b) | O50: =ROUNDDOWN((H50-L50)*$B$3,0) -> #DIV/0!
A51: 0402.29-129 | B51: 040229129 | C51: 全脂加糖粉乳 | D51: EU加盟国・イギリス | E51: 25.5%+1,023円/kg | F51: 0.255 | G51: 1023 | H51: =($F$2*F51)+G51 -> #DIV/0! | I51: 31%+ 210円/kg | J51: 0.31 | K51: 210 | L51: =($F$2*J51)+K51 -> #DIV/0! | M51: 0 | N51: (a)-(b) | O51: =ROUNDDOWN((H51-L51)*$B$3,0) -> #DIV/0!
A52: 0402.29-129 | B52: 040229129 | C52: 全脂加糖粉乳 | D52: アメリカ合衆国 | E52: 25.5%+1,023円/kg | F52: 0.255 | G52: 1023 | H52: =($F$2*F52)+G52 -> #DIV/0! | I52: 31%+ 210円/kg | J52: 0.31 | K52: 210 | L52: =($F$2*J52)+K52 -> #DIV/0! | M52: 0 | N52: (a)-(b) | O52: =ROUNDDOWN((H52-L52)*$B$3,0) -> #DIV/0!
A53: 0402.29-129 | B53: 040229129 | C53: 全脂加糖粉乳 | D53: その他の国 | E53: 25.5%+1,023円/kg | F53: 0.255 | G53: 1023 | H53: =($F$2*F53)+G53 -> #DIV/0! | I53: 31%+ 210円/kg | J53: 0.31 | K53: 210 | L53: =($F$2*J53)+K53 -> #DIV/0! | M53: 0 | N53: (a)-(b) | O53: =ROUNDDOWN((H53-L53)*$B$3,0) -> #DIV/0!
... A57: 0402.29-291 | B57: 040229291 | C57: 加糖脱脂粉乳 | D57: その他の国 | E57: 29.8%+ 425円/kg | F57: 0.298 | G57: 425 | H57: =($F$2*F57)+G57 -> #DIV/0! | I57: 36%+ 130円/kg | J57: 0.36 | K57: 130 | L57: =($F$2*J57)+K57 -> #DIV/0! | M57: 0 | N57: (a)-(b) | O57: =ROUNDDOWN((H57-L57)*$B$3,0) -> #DIV/0!
A58: 0402.99-129 | B58: 040299129 | C58: 全脂加糖れん乳 | D58: TPP加盟国 | E58: 25.5%+ 509円/kg | I58: 25.5%+ 104円/kg | M58: 405 | N58: 405円/kg | O58: =ROUNDDOWN(M58*$B$3,0) -> 0
A59: 0402.99-129 | B59: 040299129 | C59: 全脂加糖れん乳 | D59: EU加盟国・イギリス | E59: 25.5%+ 509円/kg | I59: 25.5%+ 104円/kg | M59: 405 | N59: 405円/kg | O59: =ROUNDDOWN(M59*$B$3,0) -> 0
A60: 0402.99-129 | B60: 040299129 | C60: 全脂加糖れん乳 | D60: アメリカ合衆国 | E60: 25.5%+ 509円/kg | I60: 25.5%+ 104円/kg | M60: 405 | N60: 405円/kg | O60: =ROUNDDOWN(M60*$B$3,0) -> 0
A61: 0402.99-129 | B61: 040299129 | C61: 全脂加糖れん乳 | D61: その他の国 | E61: 25.5%+ 509円/kg | I61: 25.5%+ 104円/kg | M61: 405 | N61: 405円/kg | O61: =ROUNDDOWN(M61*$B$3,0) -> 0
A62: 0402.99-290 | B62: 040299290 | C62: 脱脂加糖れん乳 | D62: TPP加盟国 | E62: 25.5%+ 254円/kg | I62: 25.5%+ 55円/kg | M62: 199 | N62: 199円/kg | O62: =ROUNDDOWN(M62*$B$3,0) -> 0
A63: 0402.99-290 | B63: 040299290 | C63: 脱脂加糖れん乳 | D63: EU加盟国・イギリス | E63: 25.5%+ 254円/kg | I63: 25.5%+ 55円/kg | M63: 199 | N63: 199円/kg | O63: =ROUNDDOWN(M63*$B$3,0) -> 0
A64: 0402.99-290 | B64: 040299290 | C64: 脱脂加糖れん乳 | D64: アメリカ合衆国 | E64: 25.5%+ 254円/kg | I64: 25.5%+ 55円/kg | M64: 199 | N64: 199円/kg | O64: =ROUNDDOWN(M64*$B$3,0) -> 0
A65: 0402.99-290 | B65: 040299290 | C65: 脱脂加糖れん乳 | D65: その他の国 | E65: 25.5%+ 254円/kg | I65: 25.5%+ 55円/kg | M65: 199 | N65: 199円/kg | O65: =ROUNDDOWN(M65*$B$3,0) -> 0
A66: 0403.90-113 | B66: 040390113 | C66: バターミルクパウダー等 | D66: TPP加盟国 | E66: 29.8%+ 396円/kg | F66: 0.298 | G66: 396 | H66: =($F$2*F66)+G66 -> #DIV/0! | I66: 36%+ 200円/kg | J66: 0.36 | K66: 200 | L66: =($F$2*J66)+K66 -> #DIV/0! | M66: 0 | N66: (a)-(b) | O66: =ROUNDDOWN((H66-L66)*$B$3,0) -> #DIV/0!
A67: 0403.90-113 | B67: 040390113 | C67: バターミルクパウダー等 | D67: EU加盟国・イギリス | E67: 29.8%+ 396円/kg | F67: 0.298 | G67: 396 | H67: =($F$2*F67)+G67 -> #DIV/0! | I67: 36%+ 200円/kg | J67: 0.36 | K67: 200 | L67: =($F$2*J67)+K67 -> #DIV/0! | M67: 0 | N67: (a)-(b) | O67: =ROUNDDOWN((H67-L67)*$B$3,0) -> #DIV/0!
A68: 0403.90-113 | B68: 040390113 | C68: バターミルクパウダー等 | D68: アメリカ合衆国 | E68: 29.8%+ 396円/kg | F68: 0.298 | G68: 396 | H68: =($F$2*F68)+G68 -> #DIV/0! | I68: 36%+ 200円/kg | J68: 0.36 | K68: 200 | L68: =($F$2*J68)+K68 -> #DIV/0! | M68: 0 | N68: (a)-(b) | O68: =ROUNDDOWN((H68-L68)*$B$3,0) -> #DIV/0!
A69: 0403.90-113 | B69: 040390113 | C69: バターミルクパウダー等 | D69: その他の国 | E69: 29.8%+ 396円/kg | F69: 0.298 | G69: 396 | H69: =($F$2*F69)+G69 -> #DIV/0! | I69: 36%+ 200円/kg | J69: 0.36 | K69: 200 | L69: =($F$2*J69)+K69 -> #DIV/0! | M69: 0 | N69: (a)-(b) | O69: =ROUNDDOWN((H69-L69)*$B$3,0) -> #DIV/0!
A70: 0403.90-123 | B70: 040390123 | C70: バターミルクパウダー等 | D70: TPP加盟国 | E70: 29.8%+ 582円/kg | F70: 0.298 | G70: 582 | H70: =($F$2*F70)+G70 -> #DIV/0! | I70: 36%+ 200円/kg | J70: 0.36 | K70: 200 | L70: =($F$2*J70)+K70 -> #DIV/0! | M70: 0 | N70: (a)-(b) | O70: =ROUNDDOWN((H70-L70)*$B$3,0) -> #DIV/0!
A71: 0403.90-123 | B71: 040390123 | C71: バターミルクパウダー等 | D71: EU加盟国・イギリス | E71: 29.8%+ 582円/kg | F71: 0.298 | G71: 582 | H71: =($F$2*F71)+G71 -> #DIV/0! | I71: 36%+ 200円/kg | J71: 0.36 | K71: 200 | L71: =($F$2*J71)+K71 -> #DIV/0! | M71: 0 | N71: (a)-(b) | O71: =ROUNDDOWN((H71-L71)*$B$3,0) -> #DIV/0!
A72: 0403.90-123 | B72: 040390123 | C72: バターミルクパウダー等 | D72: アメリカ合衆国 | E72: 29.8%+ 582円/kg | F72: 0.298 | G72: 582 | H72: =($F$2*F72)+G72 -> #DIV/0! | I72: 36%+ 200円/kg | J72: 0.36 | K72: 200 | L72: =($F$2*J72)+K72 -> #DIV/0! | M72: 0 | N72: (a)-(b) | O72: =ROUNDDOWN((H72-L72)*$B$3,0) -> #DIV/0!
A73: 0403.90-123 | B73: 040390123 | C73: バターミルクパウダー等 | D73: その他の国 | E73: 29.8%+ 582円/kg | F73: 0.298 | G73: 582 | H73: =($F$2*F73)+G73 -> #DIV/0! | I73: 36%+ 200円/kg | J73: 0.36 | K73: 200 | L73: =($F$2*J73)+K73 -> #DIV/0! | M73: 0 | N73: (a)-(b) | O73: =ROUNDDOWN((H73-L73)*$B$3,0) -> #DIV/0!
A74: 0403.90-133 | B74: 040390133 | C74: バターミルクパウダー等 | D74: TPP加盟国 | E74: 29.8%+1,023円/kg | F74: 0.298 | G74: 1023 | H74: =($F$2*F74)+G74 -> #DIV/0! | I74: 36%+ 200円/kg | J74: 0.36 | K74: 200 | L74: =($F$2*J74)+K74 -> #DIV/0! | M74: 0 | N74: (a)-(b) | O74: =ROUNDDOWN((H74-L74)*$B$3,0) -> #DIV/0!
A75: 0403.90-133 | B75: 040390133 | C75: バターミルクパウダー等 | D75: EU加盟国・イギリス | E75: 29.8%+1,023円/kg | F75: 0.298 | G75: 1023 | H75: =($F$2*F75)+G75 -> #DIV/0! | I75: 36%+ 200円/kg | J75: 0.36 | K75: 200 | L75: =($F$2*J75)+K75 -> #DIV/0! | M75: 0 | N75: (a)-(b) | O75: =ROUNDDOWN((H75-L75)*$B$3,0) -> #DIV/0!
A76: 0403.90-133 | B76: 040390133 | C76: バターミルクパウダー等 | D76: アメリカ合衆国 | E76: 29.8%+1,023円/kg | F76: 0.298 | G76: 1023 | H76: =($F$2*F76)+G76 -> #DIV/0! | I76: 36%+ 200円/kg | J76: 0.36 | K76: 200 | L76: =($F$2*J76)+K76 -> #DIV/0! | M76: 0 | N76: (a)-(b) | O76: =ROUNDDOWN((H76-L76)*$B$3,0) -> #DIV/0!
A77: 0403.90-133 | B77: 040390133 | C77: バターミルクパウダー等 | D77: その他の国 | E77: 29.8%+1,023円/kg | F77: 0.298 | G77: 1023 | H77: =($F$2*F77)+G77 -> #DIV/0! | I77: 36%+ 200円/kg | J77: 0.36 | K77: 200 | L77: =($F$2*J77)+K77 -> #DIV/0! | M77: 0 | N77: (a)-(b) | O77: =ROUNDDOWN((H77-L77)*$B$3,0) -> #DIV/0!
... A169: 0405.90-229 | B169: 040590229 | C169: バターオイル | D169: その他の国 | E169: 29.8%+1,159円/kg | F169: 0.298 | G169: 1159 | H169: =($F$2*F169)+G169 -> #DIV/0! | I169: 36%+ 290円/kg | J169: 0.36 | K169: 290 | L169: =($F$2*J169)+K169 -> #DIV/0! | M169: 0 | N169: (a)-(b) | O169: =ROUNDDOWN((H169-L169)*$B$3,0) -> #DIV/0!

Sheet 国マスタ
A1: TPP加盟国
A2: EU加盟国・イギリス
A3: アメリカ合衆国
A4: その他の国
